BEGIN:VCALENDAR
VERSION:2.0
PRODID:-//K-W Highland Glen Camera Club - ECPv6.15.20//NONSGML v1.0//EN
CALSCALE:GREGORIAN
METHOD:PUBLISH
X-ORIGINAL-URL:https://highlandglen.ca
X-WR-CALDESC:Events for K-W Highland Glen Camera Club
REFRESH-INTERVAL;VALUE=DURATION:PT1H
X-Robots-Tag:noindex
X-PUBLISHED-TTL:PT1H
BEGIN:VTIMEZONE
TZID:America/Toronto
BEGIN:DAYLIGHT
TZOFFSETFROM:-0500
TZOFFSETTO:-0400
TZNAME:EDT
DTSTART:20250309T070000
END:DAYLIGHT
BEGIN:STANDARD
TZOFFSETFROM:-0400
TZOFFSETTO:-0500
TZNAME:EST
DTSTART:20251102T060000
END:STANDARD
BEGIN:DAYLIGHT
TZOFFSETFROM:-0500
TZOFFSETTO:-0400
TZNAME:EDT
DTSTART:20260308T070000
END:DAYLIGHT
BEGIN:STANDARD
TZOFFSETFROM:-0400
TZOFFSETTO:-0500
TZNAME:EST
DTSTART:20261101T060000
END:STANDARD
BEGIN:DAYLIGHT
TZOFFSETFROM:-0500
TZOFFSETTO:-0400
TZNAME:EDT
DTSTART:20270314T070000
END:DAYLIGHT
BEGIN:STANDARD
TZOFFSETFROM:-0400
TZOFFSETTO:-0500
TZNAME:EST
DTSTART:20271107T060000
END:STANDARD
END:VTIMEZONE
BEGIN:VEVENT
DTSTART;TZID=America/Toronto:20260122T000000
DTEND;TZID=America/Toronto:20260203T233000
DTSTAMP:20260424T142502
CREATED:20251210T191352Z
LAST-MODIFIED:20260130T143854Z
UID:4454-1769040000-1770161400@highlandglen.ca
SUMMARY:CAPA Inspiration Open Colour Competition Image Due:  February 3\, 2026
DESCRIPTION:For the third CAPA competition\, the Board has selected the Inspiration Open Colour competition.  The club will select six images\, which must be from different photographers\, to represent the club. \nSubmit one digital image for consideration in the CAPA Inspiration Open Colour Competition. \nSee CAPA Competitions under the Competitions menu tab for a brief description of the image themes\, image standards\, and file naming conventions.  NOTE CHANGES BEGINNING JAN. 1\, 2026. \nSubmit images via email (our website upload is not working at this time.  An error is being returned once uploaded and images are not getting saved).   \nPlease send your images via e-mail to Mark via:  capa@highlandglen.ca \nIn your email include the following: \n\nFirst and Last Name\nPicture Title\nTheme\n\n  \n 
URL:https://highlandglen.ca/index.php/event/capa-inspiration-open-colour-competition-image-due-february-3-2026/
CATEGORIES:Photo submission
END:VEVENT
BEGIN:VEVENT
DTSTART;VALUE=DATE:20260201
DTEND;VALUE=DATE:20260301
DTSTAMP:20260424T142502
CREATED:20251210T185221Z
LAST-MODIFIED:20251210T185221Z
UID:4438-1769904000-1772323199@highlandglen.ca
SUMMARY:February Theme: Snow or Bubbles
DESCRIPTION:Snow. One challenge is to get out there this winter and create images of snowy landscapes or close ups of snow on objects\, or even snowflakes themselves. Ideas include urban landscapes in snow\, a minimalist picture of a single tree\, snowmen\, or people enjoying winter activities\, such as skiing\, skating or walking. Snow has a benefit of creating a clean carpet/covering in areas which might otherwise look messy. Pictures taken during a snowstorm are always interesting\, and this can even be done from your car! Here are some useful tips 9 Photography Tips To Capture Winter Like A Pro \nBut remember to be careful with your exposure. Your camera doesn’t know that snow is almost pure white and will often make it grey. So counter-intuitively\, you may need to use some exposure compensation (over-exposing) to make the snow look white (but be careful not so much that you blow the highlights). See How to properly expose SNOW and ICE  \n Bubbles. An alternative for those who are not inclined or cannot go out in the cold weather\, is to work on the idea of bubbles. Try blowing bubbles inside the house\, children blowing bubbles\, close-ups of bubbles against a dark background. Or of course\, you can combine these two themes and shoot some bubbles out of doors\, see How to Photograph Frozen Bubbles. \nHoping this adds some fun to the short winter days.
URL:https://highlandglen.ca/index.php/event/february-theme-snow-or-bubbles/
CATEGORIES:Theme
END:VEVENT
BEGIN:VEVENT
DTSTART;TZID=America/Toronto:20260202T193000
DTEND;TZID=America/Toronto:20260202T213000
DTSTAMP:20260424T142502
CREATED:20251210T190948Z
LAST-MODIFIED:20251210T190948Z
UID:4451-1770060600-1770067800@highlandglen.ca
SUMMARY:Meeting:  February 2\, 2026 with Guest Presenter Mike Moats
DESCRIPTION:Guest Presenter:  Mike Moats “Getting It All In Focus Without Focus Stacking” via ZOOM \nWhen I ask macro photographers what they are struggling with\, the answer is always depth of field and not understanding the f/stops and how they affect the focus. You will hear photographers say that you have to focus stack in order to get more depth of field\, but not true and in this program\, you will learn the easy methods to getting all the depth of you want without focus stacking. \nBio \nMike Moats is an international award-winning full time pro macro photographer from Michigan.  He is a Tamron Image Master\, Vanguard Pro\, and his articles and images have been published in many photo magazines for over 20 years.  He has a Macro Photo Club online with over 2\,900 members\, from 29 countries.  Mike teaches workshops and speaks at photo conference throughout the US. \n \n \n \n 
URL:https://highlandglen.ca/index.php/event/meeting-february-2-2026-with-guest-presenter-mike-moats/
CATEGORIES:Guest Speaker
END:VEVENT
BEGIN:VEVENT
DTSTART;VALUE=DATE:20260216
DTEND;VALUE=DATE:20260217
DTSTAMP:20260424T142502
CREATED:20251210T191543Z
LAST-MODIFIED:20251210T191543Z
UID:4456-1771200000-1771286399@highlandglen.ca
SUMMARY:February 16:  Family Day – No Meeting
DESCRIPTION:Due to the Family Day Holiday there will not be a meeting this evening.
URL:https://highlandglen.ca/index.php/event/february-16-family-day-no-meeting/
END:VEVENT
END:VCALENDAR