BEGIN:VCALENDAR
VERSION:2.0
PRODID:-//K-W Highland Glen Camera Club - ECPv6.15.20//NONSGML v1.0//EN
CALSCALE:GREGORIAN
METHOD:PUBLISH
X-WR-CALNAME:K-W Highland Glen Camera Club
X-ORIGINAL-URL:https://highlandglen.ca
X-WR-CALDESC:Events for K-W Highland Glen Camera Club
REFRESH-INTERVAL;VALUE=DURATION:PT1H
X-Robots-Tag:noindex
X-PUBLISHED-TTL:PT1H
BEGIN:VTIMEZONE
TZID:America/Toronto
BEGIN:DAYLIGHT
TZOFFSETFROM:-0500
TZOFFSETTO:-0400
TZNAME:EDT
DTSTART:20250309T070000
END:DAYLIGHT
BEGIN:STANDARD
TZOFFSETFROM:-0400
TZOFFSETTO:-0500
TZNAME:EST
DTSTART:20251102T060000
END:STANDARD
BEGIN:DAYLIGHT
TZOFFSETFROM:-0500
TZOFFSETTO:-0400
TZNAME:EDT
DTSTART:20260308T070000
END:DAYLIGHT
BEGIN:STANDARD
TZOFFSETFROM:-0400
TZOFFSETTO:-0500
TZNAME:EST
DTSTART:20261101T060000
END:STANDARD
BEGIN:DAYLIGHT
TZOFFSETFROM:-0500
TZOFFSETTO:-0400
TZNAME:EDT
DTSTART:20270314T070000
END:DAYLIGHT
BEGIN:STANDARD
TZOFFSETFROM:-0400
TZOFFSETTO:-0500
TZNAME:EST
DTSTART:20271107T060000
END:STANDARD
END:VTIMEZONE
BEGIN:VEVENT
DTSTART;VALUE=DATE:20260101
DTEND;VALUE=DATE:20260201
DTSTAMP:20260424T160134
CREATED:20251021T123949Z
LAST-MODIFIED:20251021T123949Z
UID:4405-1767225600-1769903999@highlandglen.ca
SUMMARY:Theme:  Inspiration Open Colour
DESCRIPTION:In preparation for our third CAPA competition the theme for January is “Inspiration Open Colour”.  Visit CAPA’s site for full details. \nThis competition and its themes invite photographers to showcase their creative skills\, using colour as a vibrant medium to capture dynamic\, outstanding\, stunning\, thoughtful and thought-provoking images. \nIt is an opportunity to explore areas that may stretch your comfort zones\, pushing to the boundaries of your creativity. \nSubmitted image must fall within one of the following themes: \n\nMan-Made Environments – Images that highlight the contrast of color within human-constructed spaces: vibrant\, tight\, and/or sprawling urban centers\, rural structures with rich palettes of colour and the working landscapes of farming communities.\nSeasonal Transitions – Images which capture nature’s shifting color palette as it transforms landscapes\, flora\, and atmospheric conditions throughout the year’s natural cycles. \nAction & Motion – Images in this theme should convey excitement\, speed\, and movement through colour. Images can be a result of panning effects\, slow shutter speeds or freezing fast action. The sources of inspiration are boundless – whether it’s animals\, birds\, dance\, sports\, traffic\, vehicles\, or any other dynamic subject in motion.\nCultural Events – Using colour\, movement and celebration\, these images will capture the vibrant traditions\, festivities\, and ceremonies that showcase the rich tapestry of human existence and expression. \nClose-up – Showcasing an intimate exploration of form and detail\, these images will reveal the extraordinary world of color\, pattern\, and texture hidden within everyday subjects.\n\n 
URL:https://highlandglen.ca/index.php/event/theme-inspiration-open-colour/
CATEGORIES:Theme
END:VEVENT
BEGIN:VEVENT
DTSTART;TZID=America/Toronto:20260105T193000
DTEND;TZID=America/Toronto:20260105T213000
DTSTAMP:20260424T160134
CREATED:20251210T164301Z
LAST-MODIFIED:20260102T180756Z
UID:4436-1767641400-1767648600@highlandglen.ca
SUMMARY:Hands-On Practice:  Portrait Photography with Jane and Leo (bring a camera)
DESCRIPTION:Leo and Jane will be doing a “hands on” Portrait photography session on January 5th. They will explain what portraiture entails and the different forms it can take. They will set up a “one light” studio in the theatre and will explain how the lighting can be used to create something more dramatic than a photo taken in the available light. Jane and Leo will also discuss how other lighting tools can be used to enhance your portraits. They will have each person that brings a digital camera (it must have a hot shoe in order to connect the light source to the shutter) the opportunity to take some portraits of another club member. They would like everyone to be able to receive their portrait via email from the person who takes their photo. Jane and Leo are hoping to put them up on the screen for evaluation and review that evening. \nAt the end of the meeting we will be updating you on some CAPA rule changes. \nCAPA AI rules and Metadata recording \nJennifer Leat will present a short review of CAPA’s rules regarding AI use and some changes regarding metadata for your photos that are submitted to CAPA competition.  This is important information for all who wish to submit images to CAPA competitions from Jan 1st 2026 onwards.\n \nNOTE:  Meeting is NOT available through zoom.  In person only for hands-on meetings.\n 
URL:https://highlandglen.ca/index.php/event/meeting-jan-5-2026/
LOCATION:Coldwell Banker – Peter Benninger Realty\, 508 Riverbend Drive\, Kitchener\, Ontario\, N2K 3S2\, Canada
CATEGORIES:Member Night
END:VEVENT
BEGIN:VEVENT
DTSTART;TZID=America/Toronto:20260119T193000
DTEND;TZID=America/Toronto:20260119T213000
DTSTAMP:20260424T160134
CREATED:20251021T125248Z
LAST-MODIFIED:20260216T140830Z
UID:4409-1768851000-1768858200@highlandglen.ca
SUMMARY:Jan. 19th Meeting CANCELLED - to be rescheduled (new date April 20th) for Dan Gillespie Audio Visual Show Night
DESCRIPTION:An evening in honour of Dan Gillespie. \nDan loved how AV shows brought members together. Help us continue this tradition and remember Dan by submitting an AV show to share. \nSubmit one AV show (in an .mp4 format) that is a maximum of 5 minutes long.  Since an audio visual show takes a bit more work to make\, you can share a collection of images that would be shown as a slide show by the moderator. \nBring your audio-visual show on a USB stick.  Come early to load it on the club’s computer for presentation.  If participating via Zoom\, use one of the following procedures to submit your AV show (preferably by Jan 17th): \n\nIf you have your own file sharing system (Dropbox\, Google Drive\, etc)\, you can send the download link to submissions@highlandglen.ca and the moderator can collect the file.\nIf you want to send in a show\, send an email to submissions@highlandglen.ca and the moderator will send you a file request through Dropbox. The file request will provide a link for uploading the file.\n\n 
URL:https://highlandglen.ca/index.php/event/dan-gillespie-audio-visual-show-night/
LOCATION:Coldwell Banker – Peter Benninger Realty\, 508 Riverbend Drive\, Kitchener\, Ontario\, N2K 3S2\, Canada
CATEGORIES:In person (Zoom available),Member Night
END:VEVENT
BEGIN:VEVENT
DTSTART;TZID=America/Toronto:20260122T000000
DTEND;TZID=America/Toronto:20260203T233000
DTSTAMP:20260424T160134
CREATED:20251210T191352Z
LAST-MODIFIED:20260130T143854Z
UID:4454-1769040000-1770161400@highlandglen.ca
SUMMARY:CAPA Inspiration Open Colour Competition Image Due:  February 3\, 2026
DESCRIPTION:For the third CAPA competition\, the Board has selected the Inspiration Open Colour competition.  The club will select six images\, which must be from different photographers\, to represent the club. \nSubmit one digital image for consideration in the CAPA Inspiration Open Colour Competition. \nSee CAPA Competitions under the Competitions menu tab for a brief description of the image themes\, image standards\, and file naming conventions.  NOTE CHANGES BEGINNING JAN. 1\, 2026. \nSubmit images via email (our website upload is not working at this time.  An error is being returned once uploaded and images are not getting saved).   \nPlease send your images via e-mail to Mark via:  capa@highlandglen.ca \nIn your email include the following: \n\nFirst and Last Name\nPicture Title\nTheme\n\n  \n 
URL:https://highlandglen.ca/index.php/event/capa-inspiration-open-colour-competition-image-due-february-3-2026/
CATEGORIES:Photo submission
END:VEVENT
END:VCALENDAR