BEGIN:VCALENDAR
VERSION:2.0
PRODID:-//K-W Highland Glen Camera Club - ECPv6.15.20//NONSGML v1.0//EN
CALSCALE:GREGORIAN
METHOD:PUBLISH
X-WR-CALNAME:K-W Highland Glen Camera Club
X-ORIGINAL-URL:https://highlandglen.ca
X-WR-CALDESC:Events for K-W Highland Glen Camera Club
REFRESH-INTERVAL;VALUE=DURATION:PT1H
X-Robots-Tag:noindex
X-PUBLISHED-TTL:PT1H
BEGIN:VTIMEZONE
TZID:America/Toronto
BEGIN:DAYLIGHT
TZOFFSETFROM:-0500
TZOFFSETTO:-0400
TZNAME:EDT
DTSTART:20240310T070000
END:DAYLIGHT
BEGIN:STANDARD
TZOFFSETFROM:-0400
TZOFFSETTO:-0500
TZNAME:EST
DTSTART:20241103T060000
END:STANDARD
BEGIN:DAYLIGHT
TZOFFSETFROM:-0500
TZOFFSETTO:-0400
TZNAME:EDT
DTSTART:20250309T070000
END:DAYLIGHT
BEGIN:STANDARD
TZOFFSETFROM:-0400
TZOFFSETTO:-0500
TZNAME:EST
DTSTART:20251102T060000
END:STANDARD
BEGIN:DAYLIGHT
TZOFFSETFROM:-0500
TZOFFSETTO:-0400
TZNAME:EDT
DTSTART:20260308T070000
END:DAYLIGHT
BEGIN:STANDARD
TZOFFSETFROM:-0400
TZOFFSETTO:-0500
TZNAME:EST
DTSTART:20261101T060000
END:STANDARD
END:VTIMEZONE
BEGIN:VEVENT
DTSTART;TZID=America/Toronto:20251006T080000
DTEND;TZID=America/Toronto:20251104T233000
DTSTAMP:20260424T191849
CREATED:20250825T165838Z
LAST-MODIFIED:20250825T165838Z
UID:4320-1759737600-1762299000@highlandglen.ca
SUMMARY:CAPA Black and White 2025: Images due Nov 4
DESCRIPTION: This year we will be participating in four CAPA (Canadian Association of Photographic Art) Competitions as a club.  \nFor the second CAPA competition\, the CAPA board has selected the Monochrome competition.  Our club will select six images\, which must be from different photographers\, to represent the club. \nPlease submit one digital image for consideration in the CAPA Nature Competition. \nSee CAPA Competitions under the Competitions menu tab for a brief description of the image themes\, image standards\, and file naming conventions. \nMonochrome photography challenges entrants to see beyond colour\, focusing on the interplay of light\, shadow\, texture\, and form to create compelling visual narratives. This section invites entrants to demonstrate their mastery of light and shadow\, contrast\, and composition through black and white imagery that strengthens rather than diminishes their subject’s impact. \nA monochrome image must fall into one of these two categories: \n\nA purely greyscale image using only black\, white\, and shades of grey\nA greyscale image that has been uniformly tinted with a single colour across the entire frame (such as sepia\, red\, or gold toning)\n\nAn image is NOT considered monochrome if it: \n\nHas selective colour toning in different areas\nIncludes spot colouring or partial colourization\nUses multiple tints or tones across different parts of the image\n\nSuch images that mix colours or toning effects are considered a monochrome and will be disqualified. \nFor competition purposes\, your image must fit into one of the following themes: \n\nCandid Person(s) – image that captures candid moments that reveal the humour\, irony\, and drama of the human experience.  Photograph people naturally\, without poising.  \nNatural Surroundings – image featuring weather phenomena\, geological formations\, cityscape\, landscapes\, seascapes and natural phenomena such as planets\, stars and astronomical events. Individuals can be included in the image provided that they enhance the perspective of the surroundings.\nDramatic Contrast & Shadows – is the focal point of the image.  Explore low-key\, silhouette\, and selective lighting effects to create bold graphic image. Everyday spaces reveal geometric shadows cast by individuals\, buildings\, signs structures and wildlife.\nNostalgia – image that evoke echoes of the past\, capturing scenes reminiscent of bygone eras.  Examples such as\, abandoned aircraft\, boats\, buildings\, ships\, still-life of antiques\, structures\, trains and vehicles. Composite image contrasting old and new are permitted in permitted in this theme.\n\nSubmit images here!
URL:https://highlandglen.ca/index.php/event/capa-black-and-white-2025-images-due-nov-4/
CATEGORIES:Photo submission
END:VEVENT
BEGIN:VEVENT
DTSTART;VALUE=DATE:20251101
DTEND;VALUE=DATE:20251201
DTSTAMP:20260424T191849
CREATED:20250825T161534Z
LAST-MODIFIED:20250825T161534Z
UID:4337-1761955200-1764547199@highlandglen.ca
SUMMARY:November Theme: SPACE IS IMPORTANT
DESCRIPTION:Outer space offers endless opportunities for breathtaking photography. At night\, look up and capture the Milky Way\, a full moon\, an eclipse\, or even shooting stars. If heading outdoors isn’t your preference\, you can still create cosmic-inspired images right from indoors. \nThere are endless websites to guide you. Below are some sites that you can visit and explore the possibilities. \nFollow this link to learn how to bring outer space indoors in creative imagery:  https://www.photoworkout.com/photoshoot-theme-ideas/#2-spacey-projections \nFollow this link to learn how to capture the milky way: https://photographylife.com/how-to-photograph-the-milky-way \nFollow this link to learn how to capture a full-moon: https://www.space.com/how-to-photograph-the-moon-camera \n  \nOur private Mighty Networks site is a great place to share your creations\, or bring your images on an image share night. If you are a HG member and not on Mighty Networks then contact us for someone to “invite you”.
URL:https://highlandglen.ca/index.php/event/november-theme-space-is-important/
CATEGORIES:Theme
END:VEVENT
BEGIN:VEVENT
DTSTART;TZID=America/Toronto:20251103T193000
DTEND;TZID=America/Toronto:20251103T213000
DTSTAMP:20260424T191849
CREATED:20250825T163823Z
LAST-MODIFIED:20250825T163823Z
UID:4352-1762198200-1762205400@highlandglen.ca
SUMMARY:MEETING:  Image Share & Influential Photographer Presentation
DESCRIPTION:Influential Photographer: \nA HGCC member will present for our Influential Photographer series Callum Snape.  Callum Snape is a Canadian photographer specializing in travel\, adventure\, and landscapes. Known for his striking and immersive depictions of the wilderness\, he is based in Vancouver\, British Columbia. His portfolio extends beyond nature\, encompassing themes of travel\, health\, wellness\, and inclusivity—blending his personal passions with professional collaborations. \n  \nImage Share: \nThere will also be an Image Share.  Bring or submit up to 4 digital images or prints to share in tonight’s share session.  Be prepared to tell us about your image.  For digital images\, please use the image standards that we use for digital competitions s these work best for our projector. Images must be resized to maximum 1920 pixels wide and maximum 1080 pixels high.  Therefore\, a horizontal image can be no larger than 1920 wide by 1080 high and a vertical image can be no larger than 1080 wide by 1080 high. \nYou can bring your images on a USB stick.  Come early to load them on the club’s computer for presentation.  Alternatively\, email all images to submissions@highlandglen.ca preferably by dinner time on Saturday before the meeting.
URL:https://highlandglen.ca/index.php/event/meeting-image-share-influential-photographer-presentation/
LOCATION:Coldwell Banker – Peter Benninger Realty\, 508 Riverbend Drive\, Kitchener\, Ontario\, N2K 3S2\, Canada
CATEGORIES:In person (Zoom available),Member Night,Member Share Night
END:VEVENT
BEGIN:VEVENT
DTSTART;TZID=America/Toronto:20251105T080000
DTEND;TZID=America/Toronto:20251109T233000
DTSTAMP:20260424T191849
CREATED:20251105T131357Z
LAST-MODIFIED:20251105T131357Z
UID:4332-1762329600-1762731000@highlandglen.ca
SUMMARY:CAPA 2025 Black and White Image Selection
DESCRIPTION:Please help us select the 6 images that will represent our club in the CAPA Black and White 2025 competition. We need your feedback by end of Sunday November 9th. \nPlease select your favourite six images from all of the following: \n(Note: You must be logged in to participate in the selection process.) \nSorry\, you must be logged in to see this content
URL:https://highlandglen.ca/index.php/event/capa-2025-black-and-white-image-selection/
CATEGORIES:Photo selection
END:VEVENT
BEGIN:VEVENT
DTSTART;TZID=America/Toronto:20251116T133000
DTEND;TZID=America/Toronto:20251116T160000
DTSTAMP:20260424T191849
CREATED:20250825T165458Z
LAST-MODIFIED:20250825T165458Z
UID:4354-1763299800-1763308800@highlandglen.ca
SUMMARY:SUNDAY\, Nov. 16.  Grand Valley Image Battle 2025 Presentation
DESCRIPTION:The Grand Valley Image Battle (GVIB) competition is held once a year as an inter-club competition between clubs in South-Western Ontario.  GVIB is intended to be a friendly competition to showcase as many photographers from each club as possible.  Judging is performed by three independent judges\, organized by the host club.  The winner of the competition is the club with the highest cumulative score.  \nHighland Glen Camera Club is hosting for 2025.  This year six clubs will be taking part with each club submitting 20 images.  We are planning to provide a hybrid experience for the 2025 GVIB.  All judging will be performed in advance\, and we will then offer a ZOOM and In-Person option to see the presentation of images and results on Sunday November 16\, 2025.  The ZOOM and In-Person presentation will be offered at the same time:  Doors/zoom open at 1:30 pm\, presentation to begin at 2 pm.  Once the presentation is complete\, for those attending in-person there will be refreshments and snacks as everyone mingles.  \nDate:  Sunday\, November 16\, 2025 \n Time:  Doors open at 1:30 pm\, presentation at 2 pm\, snacks and refreshments to follow.  Expect to have everything wrapped up by 4 pm. \n Location:  Coldwell Banker – Peter Benninger Realty\, 508 Riverbend Drive\, Kitchener\, Ontario\, N2K 3S2. In the theatre in the basement.  Elevator available. \n Zoom link: to be provided closer to the date of the event via email. \n  \n 
URL:https://highlandglen.ca/index.php/event/sunday-nov-16-grand-valley-image-battle-2025-presentation/
LOCATION:Coldwell Banker – Peter Benninger Realty\, 508 Riverbend Drive\, Kitchener\, Ontario\, N2K 3S2\, Canada
CATEGORIES:In person (Zoom available)
END:VEVENT
BEGIN:VEVENT
DTSTART;VALUE=DATE:20251117
DTEND;VALUE=DATE:20251118
DTSTAMP:20260424T191849
CREATED:20250825T165654Z
LAST-MODIFIED:20250825T165654Z
UID:4356-1763337600-1763423999@highlandglen.ca
SUMMARY:NO MEETING:  Nov. 17\, 2025
DESCRIPTION:There will NOT be a meeting on Nov. 17 due to the GVIB competition.
URL:https://highlandglen.ca/index.php/event/no-meeting-nov-17-2025/
END:VEVENT
END:VCALENDAR