BEGIN:VCALENDAR
VERSION:2.0
PRODID:-//K-W Highland Glen Camera Club - ECPv6.15.20//NONSGML v1.0//EN
CALSCALE:GREGORIAN
METHOD:PUBLISH
X-WR-CALNAME:K-W Highland Glen Camera Club
X-ORIGINAL-URL:https://highlandglen.ca
X-WR-CALDESC:Events for K-W Highland Glen Camera Club
REFRESH-INTERVAL;VALUE=DURATION:PT1H
X-Robots-Tag:noindex
X-PUBLISHED-TTL:PT1H
BEGIN:VTIMEZONE
TZID:America/Toronto
BEGIN:DAYLIGHT
TZOFFSETFROM:-0500
TZOFFSETTO:-0400
TZNAME:EDT
DTSTART:20240310T070000
END:DAYLIGHT
BEGIN:STANDARD
TZOFFSETFROM:-0400
TZOFFSETTO:-0500
TZNAME:EST
DTSTART:20241103T060000
END:STANDARD
BEGIN:DAYLIGHT
TZOFFSETFROM:-0500
TZOFFSETTO:-0400
TZNAME:EDT
DTSTART:20250309T070000
END:DAYLIGHT
BEGIN:STANDARD
TZOFFSETFROM:-0400
TZOFFSETTO:-0500
TZNAME:EST
DTSTART:20251102T060000
END:STANDARD
BEGIN:DAYLIGHT
TZOFFSETFROM:-0500
TZOFFSETTO:-0400
TZNAME:EDT
DTSTART:20260308T070000
END:DAYLIGHT
BEGIN:STANDARD
TZOFFSETFROM:-0400
TZOFFSETTO:-0500
TZNAME:EST
DTSTART:20261101T060000
END:STANDARD
END:VTIMEZONE
BEGIN:VEVENT
DTSTART;VALUE=DATE:20250401
DTEND;VALUE=DATE:20250501
DTSTAMP:20260425T064307
CREATED:20241128T160706Z
LAST-MODIFIED:20241128T160706Z
UID:4041-1743465600-1746057599@highlandglen.ca
SUMMARY:Theme:  My Favourite Colour
DESCRIPTION:The challenge is to use a favourite colour and only that colour to create a monochrome image. Monochrome photography is photography where each position on an image records and shows a different amount of light (value\, lightness or saturation)\, but not a different color (hue). For example\, a blue vase on a blue tablecloth against blue wallpaper. These can be created either in-camera or in post-production. The items are all the same colour but different tones\, shades of the same colour. Although monochrome photography includes black and white\, it also includes images which are in shades of red\, or sepia for example. In other words\, all black and white photography is monochrome photography\, but not all monochrome photography is black and white. In this theme we are thinking of monochromatic images which are not black and white. \nFor more information\, see How to Shoot Monochrome Photography with Color
URL:https://highlandglen.ca/index.php/event/theme-my-favourite-colour/
CATEGORIES:Theme
END:VEVENT
BEGIN:VEVENT
DTSTART;TZID=America/Toronto:20250407T193000
DTEND;TZID=America/Toronto:20250407T213000
DTSTAMP:20260425T064307
CREATED:20241128T161759Z
LAST-MODIFIED:20241128T161759Z
UID:4047-1744054200-1744061400@highlandglen.ca
SUMMARY:Fergus and Highland Glen Inter-club Competition 2025
DESCRIPTION:The Highland Glen and Fergus Inter-Club Competition is a friendly competition with the Fergus & District Camera Club.  This year we are hosting. \nPosted time is tentative.
URL:https://highlandglen.ca/index.php/event/fergus-and-highland-glen-inter-club-competition-2025/
LOCATION:Coldwell Banker – Peter Benninger Realty\, 508 Riverbend Drive\, Kitchener\, Ontario\, N2K 3S2\, Canada
CATEGORIES:In person (Zoom available)
END:VEVENT
END:VCALENDAR