BEGIN:VCALENDAR
VERSION:2.0
PRODID:-//K-W Highland Glen Camera Club - ECPv6.15.20//NONSGML v1.0//EN
CALSCALE:GREGORIAN
METHOD:PUBLISH
X-ORIGINAL-URL:https://highlandglen.ca
X-WR-CALDESC:Events for K-W Highland Glen Camera Club
REFRESH-INTERVAL;VALUE=DURATION:PT1H
X-Robots-Tag:noindex
X-PUBLISHED-TTL:PT1H
BEGIN:VTIMEZONE
TZID:America/Toronto
BEGIN:DAYLIGHT
TZOFFSETFROM:-0500
TZOFFSETTO:-0400
TZNAME:EDT
DTSTART:20240310T070000
END:DAYLIGHT
BEGIN:STANDARD
TZOFFSETFROM:-0400
TZOFFSETTO:-0500
TZNAME:EST
DTSTART:20241103T060000
END:STANDARD
BEGIN:DAYLIGHT
TZOFFSETFROM:-0500
TZOFFSETTO:-0400
TZNAME:EDT
DTSTART:20250309T070000
END:DAYLIGHT
BEGIN:STANDARD
TZOFFSETFROM:-0400
TZOFFSETTO:-0500
TZNAME:EST
DTSTART:20251102T060000
END:STANDARD
BEGIN:DAYLIGHT
TZOFFSETFROM:-0500
TZOFFSETTO:-0400
TZNAME:EDT
DTSTART:20260308T070000
END:DAYLIGHT
BEGIN:STANDARD
TZOFFSETFROM:-0400
TZOFFSETTO:-0500
TZNAME:EST
DTSTART:20261101T060000
END:STANDARD
END:VTIMEZONE
BEGIN:VEVENT
DTSTART;TZID=America/Toronto:20250225T080000
DTEND;TZID=America/Toronto:20250312T233000
DTSTAMP:20260425T081928
CREATED:20250225T192727Z
LAST-MODIFIED:20250225T192727Z
UID:4128-1740470400-1741822200@highlandglen.ca
SUMMARY:HGCC-Fergus Interclub Competition 2025 - Images Due
DESCRIPTION:In 2019\, we started a friendly inter-club competition with the Fergus & District Camera Club as an annual spring event with Highland Glen and Fergus camera clubs alternating hosting duties for the competition.  Each club enters 30 digital images.  This is an open category competition\, so any subject\, processing technique\, etc. is accepted. \nThe competition is intended to be a showcase of the achievements of the club as a whole and not just a few members. HGCC members can submit up to three images for consideration. The club decides on the images to be submitted and strives to have at least one image from every submitter. \nDetails of the competition and image standard are posted here. \nSubmit images using this online form. You must have an account on this website to access the form.\n SUBMIT HERE
URL:https://highlandglen.ca/index.php/event/hgcc-fergus-interclub-competition-2025-images-due/
CATEGORIES:Photo submission
END:VEVENT
BEGIN:VEVENT
DTSTART;VALUE=DATE:20250301
DTEND;VALUE=DATE:20250318
DTSTAMP:20260425T081928
CREATED:20250225T193156Z
LAST-MODIFIED:20250225T193156Z
UID:4108-1740787200-1742255999@highlandglen.ca
SUMMARY:CAPA Curves and Lines 2025: Images due Mar 17
DESCRIPTION:This year we will be participating in four CAPA (Canadian Association of Photographic Art) Competitions as a club.  \nFor the fourth competition\, the Board has selected the Curves and Lines competition.  The club will select six images\, which must be from different photographers\, to represent the club. \n\n\n\n\nPlease consider submitting one digital image for this competition! \nSee CAPA Competitions under the Competitions menu tab for a brief description of the image themes\, image standards\, and file naming conventions.  \nSubmit images online at  SUBMIT HERE.
URL:https://highlandglen.ca/index.php/event/capa-curves-and-lines-2025-images-due-mar-17/
END:VEVENT
BEGIN:VEVENT
DTSTART;VALUE=DATE:20250301
DTEND;VALUE=DATE:20250401
DTSTAMP:20260425T081928
CREATED:20241128T155317Z
LAST-MODIFIED:20241128T155317Z
UID:4032-1740787200-1743465599@highlandglen.ca
SUMMARY:Theme:  Faceless Portraits
DESCRIPTION:Faceless Portraits. What is a faceless portrait? As its name says\, its any type of portrait in which you cannot see the person’s actual face. Its about finding other creative ways to depict a person and their identity and highlight other aspects of your subject (or yourself!). Hiding the face can be done by cropping the image\, using silhouette\, covering the face with hair\, hand\, hat or veil\, photographing from the back of the person\, with their head turned away or with their face in shadow\, photographing other body parts e.g. hand\, deliberately blurring the face e.g. with motion blur\, or using post-processing to remove or blur the face. \nSee How to Take Great Faceless Portraits (+ Posing Ideas) and 16 No Face Photo Ideas You Must Try in 2024 for more information and ideas.
URL:https://highlandglen.ca/index.php/event/theme-faceless-portraits/
CATEGORIES:Theme
END:VEVENT
BEGIN:VEVENT
DTSTART;TZID=America/Toronto:20250303T193000
DTEND;TZID=America/Toronto:20250303T213000
DTSTAMP:20260425T081928
CREATED:20241128T160108Z
LAST-MODIFIED:20241128T160108Z
UID:4039-1741030200-1741037400@highlandglen.ca
SUMMARY:Guest speaker:  Jonathan Sau will present Astro Landscape Photography
DESCRIPTION:Jonathan Sau is a fine art photographer based in Waterloo\, Ontario. His photography work started back in the film days. Today his photographic interests are diverse\, with a focus on natural and urban landscape\, astrophotography\, and floral and close-up. \nIn his presentation\, Jonathan will cover the following: \n\nDifferent types of astrophotography targets and phenomena including the moon\, eclipses\, star trails\, Milky Way\, meteors\, comets\, and northern lights. \nPlanning an astro shoot – tools\, techniques\, and knowledge of the night sky to make sure you’ll be at the right place\, at the right time\, and pointing at the right direction.\nChasing the elusive aurora in southern Ontario.\nEquipment\, accessories\, and shooting techniques.\nPost-processing.\n\n  \nJonathan is a board member of the GRIPS camera club in Kitchener\, a member of the KW Chapter of Royal Astronomical Society of Canada\, and a CAPA certified judge. He enjoys sharing his experience through workshops and critique groups. \nFor more information see \nHome – Jonathan Sau Photography   \nFacebook \nhttps://www.instagram.com/jonathan.sau.photography/ 
URL:https://highlandglen.ca/index.php/event/guest-speaker-jonathan-sau-will-present-astro-landscape-photography/
LOCATION:Coldwell Banker – Peter Benninger Realty\, 508 Riverbend Drive\, Kitchener\, Ontario\, N2K 3S2\, Canada
CATEGORIES:Guest Speaker
END:VEVENT
BEGIN:VEVENT
DTSTART;TZID=America/Toronto:20250313T080000
DTEND;TZID=America/Toronto:20250316T170000
DTSTAMP:20260425T081928
CREATED:20250313T141545Z
LAST-MODIFIED:20250313T141545Z
UID:4141-1741852800-1742144400@highlandglen.ca
SUMMARY:HGCC Image Selection For Competition with Fergus
DESCRIPTION:Please help us select the 30 images that will represent our club in the HGCC-Fergus 2025 competition. \n** You must be logged in to participate in the selection process. ** \nCheck 30 images from the 38 that are available. \nSorry\, you must be logged in to see this content
URL:https://highlandglen.ca/index.php/event/hgcc-image-selection-for-competition-with-fergus/
CATEGORIES:Photo selection
END:VEVENT
BEGIN:VEVENT
DTSTART;TZID=America/Toronto:20250313T080000
DTEND;TZID=America/Toronto:20250324T233000
DTSTAMP:20260425T081928
CREATED:20250318T145144Z
LAST-MODIFIED:20250318T145144Z
UID:4144-1741852800-1742859000@highlandglen.ca
SUMMARY:CAPA 2025 Curves and Lines Selection
DESCRIPTION:Please help us select the 6 images that will represent our club in the CAPA Curves and Lines 2025 competition. We need your feedback by end of Monday March 24th. \nPlease select your favourite six images from all of the following: \n(Note: You must be logged in to participate in the selection process.) \nSorry\, you must be logged in to see this content
URL:https://highlandglen.ca/index.php/event/capa-2025-curves-and-lines-selection/
CATEGORIES:Photo selection
END:VEVENT
BEGIN:VEVENT
DTSTART;TZID=America/Toronto:20250317T193000
DTEND;TZID=America/Toronto:20250317T213000
DTSTAMP:20260425T081928
CREATED:20241128T161226Z
LAST-MODIFIED:20250311T161935Z
UID:4045-1742239800-1742247000@highlandglen.ca
SUMMARY:Members' Night
DESCRIPTION:  \nImage by Julie Seiler “Villa Frederick James” \nFor this evening get ready to share and encourage your fellow photographers.  There will be three segments to the evening:  Influential Photographer presentation\, Image Share and Resource Sharing.  Join us for a fun night of learning and sharing. \nInfluential Photographer:  A HGCC member will present and introduce us to George Hunter\, a Canadian Documentary Photographer. \nImage Share:  With this being St. Patrick’s Day the unofficial theme for tonight is ‘Lucky Shot’.  Whether your pictures fit the theme\, are from your vacation or from other times\, feel free to share up to 4 images and tell us a little about the images. If you would like critique\, please let the group know.  You can bring your images on a USB stick/drive and we’ll load them on the computer before the start of the meeting. Alternatively email them to submissions@highlandglen.ca by dinner time of the 16th.  Please size your images as outlined on our website (here is the link to the specs: https://highlandglen.ca/index.php/digital-competition  which takes you to the Digital Competition web page and halfway down you’ll see a section titled Image Standards) to ensure they show as expected on the screen. \nResource Sharing:  For tonight as well share with the group a photographer you follow (YouTube\, Instagram\, etc.) that you find inspirational and/or helps you with your photography knowledge.
URL:https://highlandglen.ca/index.php/event/members-night/
LOCATION:Coldwell Banker – Peter Benninger Realty\, 508 Riverbend Drive\, Kitchener\, Ontario\, N2K 3S2\, Canada
CATEGORIES:Member Night
END:VEVENT
END:VCALENDAR