BEGIN:VCALENDAR
VERSION:2.0
PRODID:-//K-W Highland Glen Camera Club - ECPv6.15.20//NONSGML v1.0//EN
CALSCALE:GREGORIAN
METHOD:PUBLISH
X-WR-CALNAME:K-W Highland Glen Camera Club
X-ORIGINAL-URL:https://highlandglen.ca
X-WR-CALDESC:Events for K-W Highland Glen Camera Club
REFRESH-INTERVAL;VALUE=DURATION:PT1H
X-Robots-Tag:noindex
X-PUBLISHED-TTL:PT1H
BEGIN:VTIMEZONE
TZID:America/Toronto
BEGIN:DAYLIGHT
TZOFFSETFROM:-0500
TZOFFSETTO:-0400
TZNAME:EDT
DTSTART:20240310T070000
END:DAYLIGHT
BEGIN:STANDARD
TZOFFSETFROM:-0400
TZOFFSETTO:-0500
TZNAME:EST
DTSTART:20241103T060000
END:STANDARD
BEGIN:DAYLIGHT
TZOFFSETFROM:-0500
TZOFFSETTO:-0400
TZNAME:EDT
DTSTART:20250309T070000
END:DAYLIGHT
BEGIN:STANDARD
TZOFFSETFROM:-0400
TZOFFSETTO:-0500
TZNAME:EST
DTSTART:20251102T060000
END:STANDARD
BEGIN:DAYLIGHT
TZOFFSETFROM:-0500
TZOFFSETTO:-0400
TZNAME:EDT
DTSTART:20260308T070000
END:DAYLIGHT
BEGIN:STANDARD
TZOFFSETFROM:-0400
TZOFFSETTO:-0500
TZNAME:EST
DTSTART:20261101T060000
END:STANDARD
END:VTIMEZONE
BEGIN:VEVENT
DTSTART;VALUE=DATE:20250101
DTEND;VALUE=DATE:20250201
DTSTAMP:20260425T114158
CREATED:20241113T193348Z
LAST-MODIFIED:20241113T193716Z
UID:3980-1735689600-1738367999@highlandglen.ca
SUMMARY:Theme:  Colour
DESCRIPTION:Colour is everywhere. See what vibrant and impactful images you can create making the best use of colour. Feel free to accentuate and even play with changed color during editing. \nAs a prelude to CAPA’s Colour Inspiration Competition you might want to start thinking of colour images that fit into one of the following themes: \n\nStill Life – images are skillfully-crafted arrangement(s) of vibrant objects and textures. Experimenting with lighting\, angles\, background and props may contribute to a unique fine art interpretation. The possibilities are endless – the beauty of flowers\, the allure of food\, nostalgia of toys\, the wisdom within books\, elegance of fabric\, the charm of collectibles\, craftsman’s hand tools\, and natural materials.\n\n\nDramatic Contrast & Shadows – images in this theme leverages the power of dramatic contrast and shadows. Sources of inspiration – low-key\, silhouette\, and selective lighting effects to create bold graphic image. Everyday spaces reveal geometric shadows cast by individuals\, buildings\, signs and structures.\n\n\nAction & Motion – image in this theme should convey excitement\, speed\, and movement through colour. Image can be a result of panning effects\, slow shutter speeds and freezing fast action. Source of inspiration is boundless – whether it’s animals\, birds\, dance\, long-exposure shots\, sports\, traffic\, vehicles\, or any other dynamic subject.\n\n\nNature’s Beauty – images capturing inspiring landscapes\, mesmerizing plants\, enchanting animals\, and captivating natural phenomena. Domesticated animals\, birds and drone images are welcome additions to this theme\, allowing for a broad spectrum of natural wonders. All hand-of-man elements are permissible in this theme.\n\n\nTravel – image that transcends the typical postcard and provides a fresh and creative perspective. Submissions are welcome from all corners of Canada or anywhere else in the world.\n\n  \nOur private Mighty Networks site is a great place to share your creations\, or bring your images on an image share night. If you are a HG member and not on Mighty Networks then contact us for someone to “invite you”.  Best way to contact is with an email to submissions@highlandglen.ca. \n  \nHappy Shooting
URL:https://highlandglen.ca/index.php/event/theme-colour-2/
CATEGORIES:Theme
END:VEVENT
BEGIN:VEVENT
DTSTART;TZID=America/Toronto:20250106T193000
DTEND;TZID=America/Toronto:20250106T213000
DTSTAMP:20260425T114158
CREATED:20241113T194936Z
LAST-MODIFIED:20250103T155329Z
UID:3983-1736191800-1736199000@highlandglen.ca
SUMMARY:Guest Speaker:  Luba Citrin (ZOOM ONLY)
DESCRIPTION:Our Guest speaker is photographer Luba Citrin. \n   \nHer presentation via Zoom is entitled “Still\, … but not so Still Life”. She will share her approach to creating still life images that are different from traditional still life in art or photography.  ZOOM ONLY – no meeting at Coldwell Banker. \nLuba was a Computer specialist by profession. She took early retirement in 2010\, and bought her first digital camera to take on her canoe\, camping and travel journeys.  Since then\, photography has become a passion\, an obsession\, and a means to express herself through images.  \nShe enjoys all aspects of photography – nature\, landscape\, still life and fine art\, and has fun creating altered-reality images that have won many awards. \nShe is a member of Richmond Hill Camera Club and Toronto Digital Camera Club\, as well as an accredited judge with the  Ontario Council of Camera Clubs. \nIn her presentation she will show her workflow starting with idea\, set up and execution. She will take you behind the scenes and show how much fun it could be in producing still life images that are different with the hope to motivate you not only creating still life images\, but in any genre of photography you do. \nTo see some of her work go to Luba Citrin Photography
URL:https://highlandglen.ca/index.php/event/guest-speaker-luba-citrin/
LOCATION:Coldwell Banker – Peter Benninger Realty\, 508 Riverbend Drive\, Kitchener\, Ontario\, N2K 3S2\, Canada
CATEGORIES:Guest Speaker,Online Event
END:VEVENT
BEGIN:VEVENT
DTSTART;TZID=America/Toronto:20250120T193000
DTEND;TZID=America/Toronto:20250120T213000
DTSTAMP:20260425T114158
CREATED:20241113T195524Z
LAST-MODIFIED:20241113T195524Z
UID:3993-1737401400-1737408600@highlandglen.ca
SUMMARY:Dan Gillespie AV Show Night
DESCRIPTION:An evening in honour of Dan Gillespie. \nDan loved how AV shows brought members together. Help us continue this tradition and remember Dan by submitting an AV show to share. \nSubmit one AV show (in an .mp4 format) that is a maximum of 5 minutes long.  Since an audio visual show takes a bit more work to make\, you can share a collection of images that would be shown as a slide show by the moderator. \nBring your audio-visual show on a USB stick.  Come early to load it on the club’s computer for presentation.  If participating via Zoom\, use one of the following procedures to submit your AV show (preferably by Jan 18th): \n\nIf you have your own file sharing system (Dropbox\, Google Drive\, etc)\, you can send the download link to submissions@highlandglen.ca and the moderator can collect the file.\nIf you want to send in a show\, send an email to submissions@highlandglen.ca and the moderator will send you a file request through Dropbox. The file request will provide a link for uploading the file.\n\n  \n 
URL:https://highlandglen.ca/index.php/event/dan-gillespie-av-show-night-5/
LOCATION:Coldwell Banker – Peter Benninger Realty\, 508 Riverbend Drive\, Kitchener\, Ontario\, N2K 3S2\, Canada
CATEGORIES:In person (Zoom available),Member Night,Member Share Night
END:VEVENT
END:VCALENDAR