BEGIN:VCALENDAR
VERSION:2.0
PRODID:-//K-W Highland Glen Camera Club - ECPv6.15.20//NONSGML v1.0//EN
CALSCALE:GREGORIAN
METHOD:PUBLISH
X-ORIGINAL-URL:https://highlandglen.ca
X-WR-CALDESC:Events for K-W Highland Glen Camera Club
REFRESH-INTERVAL;VALUE=DURATION:PT1H
X-Robots-Tag:noindex
X-PUBLISHED-TTL:PT1H
BEGIN:VTIMEZONE
TZID:America/Toronto
BEGIN:DAYLIGHT
TZOFFSETFROM:-0500
TZOFFSETTO:-0400
TZNAME:EDT
DTSTART:20230312T070000
END:DAYLIGHT
BEGIN:STANDARD
TZOFFSETFROM:-0400
TZOFFSETTO:-0500
TZNAME:EST
DTSTART:20231105T060000
END:STANDARD
BEGIN:DAYLIGHT
TZOFFSETFROM:-0500
TZOFFSETTO:-0400
TZNAME:EDT
DTSTART:20240310T070000
END:DAYLIGHT
BEGIN:STANDARD
TZOFFSETFROM:-0400
TZOFFSETTO:-0500
TZNAME:EST
DTSTART:20241103T060000
END:STANDARD
BEGIN:DAYLIGHT
TZOFFSETFROM:-0500
TZOFFSETTO:-0400
TZNAME:EDT
DTSTART:20250309T070000
END:DAYLIGHT
BEGIN:STANDARD
TZOFFSETFROM:-0400
TZOFFSETTO:-0500
TZNAME:EST
DTSTART:20251102T060000
END:STANDARD
END:VTIMEZONE
BEGIN:VEVENT
DTSTART;VALUE=DATE:20240901
DTEND;VALUE=DATE:20241001
DTSTAMP:20260425T181712
CREATED:20240813T152016Z
LAST-MODIFIED:20240816T131818Z
UID:3841-1725148800-1727740799@highlandglen.ca
SUMMARY:Theme:  Nature/Wildlife
DESCRIPTION:September’s Theme is Nature/Wildlife as a prelude to CAPA’s Nature/Wildlife Competition .\n \nFor competition purposes\, your image must fit into one of the following themes: \n\nBotanical – wild plants photographed in their natural environment\nInsects\, Reptiles & Amphibians – such as: alligators\, ants\, bees\, beetles\, butterflies\, crickets\, crocodiles\, dragonflies\, frogs\, gecko\, hornets\, iguana\, lizard\, mantis\, mosquitoes\, snakes\, turtles\, wasps\, etc…\nLandscape – subjects such as weather phenomena\, geological formations\, landscapes\, seascapes and natural phenomena\, planets\, stars and astronomical events.\nNature – subjects such as living animals\, birds and marine subjects – under the control and feeding of humans if not obvious – such as zoos\, game farms\, animal preserves\, aquarium\, etc…\nWildlife – only living and untamed wildlife mammals\, birds and marine subjects.\n\nNOTE: This competition has restricted subject and editing conditions.  Typically\, hand-of-man is not allowed or restricted. Read the detailed rules on the CAPA site!
URL:https://highlandglen.ca/index.php/event/theme-nature-wildlife-3/
CATEGORIES:Theme
END:VEVENT
BEGIN:VEVENT
DTSTART;TZID=America/Toronto:20240916T193000
DTEND;TZID=America/Toronto:20240916T213000
DTSTAMP:20260425T181712
CREATED:20240813T151338Z
LAST-MODIFIED:20240813T151338Z
UID:3839-1726515000-1726522200@highlandglen.ca
SUMMARY:Meeting:  Sept. 16\, 2024
DESCRIPTION:Welcome back:\n\nWelcome and introduction of new members.\nReview of what is in store for this season.\n\nImage Share:\nBring or submit up to 4 digital images or prints to share in tonight’s share session. Be prepared to tell us about your image.  \nFor digital images\, please use the image standards that we use for digital competitions as these work best with our projector. \nYou can bring your images on a USB stick. Come early to load it on the club’s computer for presentation.  Alternatively\, email all images to submissions@highlandglen.ca preferably by dinner time on Saturday September 14th  but no later than dinner time on Sunday September 15th.  \nIf you are submitting images from a phone\, we have directions on how to resize your image for an iOS phone [pdf].   For those using an Android phone\, directions would be similar; you could use the 3rd party app Photo & Picture Resizer.
URL:https://highlandglen.ca/index.php/event/meeting-sept-16-2024/
LOCATION:Coldwell Banker – Peter Benninger Realty\, 508 Riverbend Drive\, Kitchener\, Ontario\, N2K 3S2\, Canada
CATEGORIES:Member Share Night
END:VEVENT
BEGIN:VEVENT
DTSTART;TZID=America/Toronto:20240922T090000
DTEND;TZID=America/Toronto:20240922T120000
DTSTAMP:20260425T181712
CREATED:20240808T141556Z
LAST-MODIFIED:20240808T141557Z
UID:3828-1726995600-1727006400@highlandglen.ca
SUMMARY:Outing:  Mike Schout Wetlands
DESCRIPTION:Date:  September 22\, 2024 \nTime:  9 AM \nLocation:  28 Smith’s Creek Drive\, New Hamburg\, ON \nMeeting Place:  Parking lot.   It is a bit odd\, but the road into the parking lot is between two houses – there are signs. There is plenty of parking. \nIf the weather is too bad to be out\, the alternate weather date is September 29. \nA 1.6 km long raised boardwalk spanning multiple wetland ponds.  Over 20 acres of pollinator meadows.  Birdhouses\, turtle nesting areas\, Nith river\, to name just a few attractions.  This is a great location for a long telephoto lens or wide angle to capture the vast landscape and winding boardwalk. \n \n  \n 
URL:https://highlandglen.ca/index.php/event/outing-mike-schout-wetlands/
CATEGORIES:Outings
END:VEVENT
END:VCALENDAR