BEGIN:VCALENDAR
VERSION:2.0
PRODID:-//K-W Highland Glen Camera Club - ECPv6.15.20//NONSGML v1.0//EN
CALSCALE:GREGORIAN
METHOD:PUBLISH
X-WR-CALNAME:K-W Highland Glen Camera Club
X-ORIGINAL-URL:https://highlandglen.ca
X-WR-CALDESC:Events for K-W Highland Glen Camera Club
REFRESH-INTERVAL;VALUE=DURATION:PT1H
X-Robots-Tag:noindex
X-PUBLISHED-TTL:PT1H
BEGIN:VTIMEZONE
TZID:America/Toronto
BEGIN:DAYLIGHT
TZOFFSETFROM:-0500
TZOFFSETTO:-0400
TZNAME:EDT
DTSTART:20230312T070000
END:DAYLIGHT
BEGIN:STANDARD
TZOFFSETFROM:-0400
TZOFFSETTO:-0500
TZNAME:EST
DTSTART:20231105T060000
END:STANDARD
BEGIN:DAYLIGHT
TZOFFSETFROM:-0500
TZOFFSETTO:-0400
TZNAME:EDT
DTSTART:20240310T070000
END:DAYLIGHT
BEGIN:STANDARD
TZOFFSETFROM:-0400
TZOFFSETTO:-0500
TZNAME:EST
DTSTART:20241103T060000
END:STANDARD
BEGIN:DAYLIGHT
TZOFFSETFROM:-0500
TZOFFSETTO:-0400
TZNAME:EDT
DTSTART:20250309T070000
END:DAYLIGHT
BEGIN:STANDARD
TZOFFSETFROM:-0400
TZOFFSETTO:-0500
TZNAME:EST
DTSTART:20251102T060000
END:STANDARD
END:VTIMEZONE
BEGIN:VEVENT
DTSTART;TZID=America/Toronto:20240603T193000
DTEND;TZID=America/Toronto:20240603T213000
DTSTAMP:20260425T231908
CREATED:20230812T194615Z
LAST-MODIFIED:20240602T205151Z
UID:3380-1717443000-1717450200@highlandglen.ca
SUMMARY:Year End Get Together (Cancelled)
DESCRIPTION:Come celebrate another year of successful photography. \nOur year end get together has been cancelled.
URL:https://highlandglen.ca/index.php/event/year-end-banquet-6/
CATEGORIES:Member Night
ATTACH;FMTTYPE=image/png:https://highlandglen.ca/wp-content/uploads/2023/08/20230605HGCCBanquet.png
END:VEVENT
END:VCALENDAR