BEGIN:VCALENDAR
VERSION:2.0
PRODID:-//K-W Highland Glen Camera Club - ECPv6.15.20//NONSGML v1.0//EN
CALSCALE:GREGORIAN
METHOD:PUBLISH
X-WR-CALNAME:K-W Highland Glen Camera Club
X-ORIGINAL-URL:https://highlandglen.ca
X-WR-CALDESC:Events for K-W Highland Glen Camera Club
REFRESH-INTERVAL;VALUE=DURATION:PT1H
X-Robots-Tag:noindex
X-PUBLISHED-TTL:PT1H
BEGIN:VTIMEZONE
TZID:America/Toronto
BEGIN:DAYLIGHT
TZOFFSETFROM:-0500
TZOFFSETTO:-0400
TZNAME:EDT
DTSTART:20250309T070000
END:DAYLIGHT
BEGIN:STANDARD
TZOFFSETFROM:-0400
TZOFFSETTO:-0500
TZNAME:EST
DTSTART:20251102T060000
END:STANDARD
BEGIN:DAYLIGHT
TZOFFSETFROM:-0500
TZOFFSETTO:-0400
TZNAME:EDT
DTSTART:20260308T070000
END:DAYLIGHT
BEGIN:STANDARD
TZOFFSETFROM:-0400
TZOFFSETTO:-0500
TZNAME:EST
DTSTART:20261101T060000
END:STANDARD
BEGIN:DAYLIGHT
TZOFFSETFROM:-0500
TZOFFSETTO:-0400
TZNAME:EDT
DTSTART:20270314T070000
END:DAYLIGHT
BEGIN:STANDARD
TZOFFSETFROM:-0400
TZOFFSETTO:-0500
TZNAME:EST
DTSTART:20271107T060000
END:STANDARD
END:VTIMEZONE
BEGIN:VEVENT
DTSTART;VALUE=DATE:20260518
DTEND;VALUE=DATE:20260519
DTSTAMP:20260425T082231
CREATED:20260127T183415Z
LAST-MODIFIED:20260127T183415Z
UID:4597-1779062400-1779148799@highlandglen.ca
SUMMARY:May 18th:  Victoria Day - No Meeting
DESCRIPTION:Due to the Victoria Day holiday there will not be a meeting this evening.
URL:https://highlandglen.ca/index.php/event/may-18th-victoria-day-no-meeting/
END:VEVENT
BEGIN:VEVENT
DTSTART;VALUE=DATE:20260601
DTEND;VALUE=DATE:20260602
DTSTAMP:20260425T082231
CREATED:20260127T183611Z
LAST-MODIFIED:20260127T183611Z
UID:4599-1780272000-1780358399@highlandglen.ca
SUMMARY:June 1st:  Year End Banquet
DESCRIPTION:Place and time to be announced closer to the date.  Stay tuned!
URL:https://highlandglen.ca/index.php/event/june-1st-year-end-banquet/
LOCATION:To be determined
CATEGORIES:Outside Event
END:VEVENT
END:VCALENDAR